BEGIN:VCALENDAR
VERSION:2.0
PRODID:icalendar-ruby
CALSCALE:GREGORIAN
METHOD:PUBLISH
BEGIN:VEVENT
DTSTAMP:20260423T213101Z
UID:127-908006@stdavidsdelta.com
DTSTART:20260518T020000Z
DTEND:20260518T040000Z
CLASS:PUBLIC
CREATED:20260423T093411
DESCRIPTION:A playful\, warm and charming presence!
LAST-MODIFIED:20260423T093411
LOCATION:Sanctuary
SUMMARY:Soulful Singing of Tom Pickett
URL;VALUE=URI:https://stdavidsdelta.com/events/soulful-singing-of-tom-picke
 tt/2026-05-17
ATTACH;FILENAME=Tom-Pickett-3x3.jpg;FMTTYPE=image/jpeg:https://dq5pwpg1q8ru
 0.cloudfront.net/2026/04/23/16/34/10/c86356ad-b406-4339-8835-5af6825da92b/
 Tom-Pickett-3x3.jpg
END:VEVENT
END:VCALENDAR
