BEGIN:VCALENDAR
VERSION:2.0
PRODID:icalendar-ruby
CALSCALE:GREGORIAN
METHOD:PUBLISH
BEGIN:VEVENT
DTSTAMP:20260424T213437Z
UID:23-911232@stdavidsdelta.com
DTSTART:20261105T220000Z
DTEND:20261105T230000Z
CLASS:PUBLIC
CREATED:20260424T131313
DESCRIPTION:
LAST-MODIFIED:20260424T131313
LOCATION:St. David's Chapel
SUMMARY:Bible Study
URL;VALUE=URI:https://stdavidsdelta.com/events/bible-study/2026-11-05
ATTACH;FILENAME=0A860967-420A-4A8D-81FF-FBD63CC97974_1_201_a.jpeg;FMTTYPE=i
 mage/jpeg:https://dq5pwpg1q8ru0.cloudfront.net/2023/04/02/16/18/29/739c76f
 a-6ed1-4b79-9c50-4c29f1fe5391/0A860967-420A-4A8D-81FF-FBD63CC97974_1_201_a
 .jpeg
END:VEVENT
END:VCALENDAR
